BEGIN:VCALENDAR
VERSION:2.0
PRODID:-//Contratero//ES
CALSCALE:GREGORIAN
METHOD:PUBLISH
BEGIN:VEVENT
UID:1367/2024@contratero.es
DTSTAMP:20260424T033355Z
DTSTART:20240610T235959
DTEND:20240611T005959
SUMMARY:Cierre: Renovación\, actualización y mantenimiento del cont
DESCRIPTION:Renovación\, actualización y mantenimiento del contrato de mejoras asociado a las licencias anuales n.º 108700 a 108705 del software para arquitectura\, ingeniería y construcción CYPE\, acorde a las nece...\\n\\nOrganismo: Presidencia del Cabildo Insular de La Gomera\\n\\nVer en Contratero: https://contratero.es/contracts/1367/2024
URL:https://contratero.es/contracts/1367/2024
STATUS:CONFIRMED
BEGIN:VALARM
TRIGGER:-P1D
ACTION:DISPLAY
DESCRIPTION:Recordatorio: Renovación\, actualización y ma
END:VALARM
END:VEVENT
END:VCALENDAR