BEGIN:VCALENDAR
VERSION:2.0
PRODID:-//Contratero//ES
CALSCALE:GREGORIAN
METHOD:PUBLISH
BEGIN:VEVENT
UID:1381@contratero.es
DTSTAMP:20260423T004518Z
DTSTART:20220513T235959
DTEND:20220514T005959
SUMMARY:Cierre: Servicio de provisión de plantillas y calificación
DESCRIPTION:Servicio de provisión de plantillas y calificación automatizada de exámenes tipo test para los procesos selectivos desarrollados por el Ayuntamiento.\\n\\nOrganismo: Junta de Gobierno Local del Ayuntamiento de Jerez\\n\\nVer en Contratero: https://contratero.es/contracts/1381
URL:https://contratero.es/contracts/1381
STATUS:CONFIRMED
BEGIN:VALARM
TRIGGER:-P1D
ACTION:DISPLAY
DESCRIPTION:Recordatorio: Servicio de provisión de plant
END:VALARM
END:VEVENT
END:VCALENDAR