BEGIN:VCALENDAR
VERSION:2.0
PRODID:-//Contratero//ES
CALSCALE:GREGORIAN
METHOD:PUBLISH
BEGIN:VEVENT
UID:1388526J@contratero.es
DTSTAMP:20260420T082152Z
DTSTART:20250117T235959
DTEND:20250118T005959
SUMMARY:Cierre: Servicio de diseño\, desarrollo e instalación de un
DESCRIPTION:Servicio de diseño\, desarrollo e instalación de un sitio Web que divulgue\, en qué consisten institucionalmente las subvenciones PRTR\, así como fichas informativas individuales de cada uno de los proye...\\n\\nOrganismo: Presidencia de Diputación Provincial de Albacete\\n\\nVer en Contratero: https://contratero.es/contracts/1388526J
URL:https://contratero.es/contracts/1388526J
STATUS:CONFIRMED
BEGIN:VALARM
TRIGGER:-P1D
ACTION:DISPLAY
DESCRIPTION:Recordatorio: Servicio de diseño\, desarrollo
END:VALARM
END:VEVENT
END:VCALENDAR