BEGIN:VCALENDAR
VERSION:2.0
PRODID:-//Contratero//ES
CALSCALE:GREGORIAN
METHOD:PUBLISH
BEGIN:VEVENT
UID:14/25@contratero.es
DTSTAMP:20260424T190457Z
DTSTART:20260105T235959
DTEND:20260106T005959
SUMMARY:Cierre: Contratación de la Actualización de Sistemas de Al
DESCRIPTION:Contratación de la Actualización de Sistemas de Almacenamiento NetApp y Adquisición de servidores de virtualización\\n\\nOrganismo: Empresa Provincial de Informática\, S.A.\\n\\nVer en Contratero: https://contratero.es/contracts/14/25
URL:https://contratero.es/contracts/14/25
STATUS:CONFIRMED
BEGIN:VALARM
TRIGGER:-P1D
ACTION:DISPLAY
DESCRIPTION:Recordatorio: Contratación de la Actualizaci
END:VALARM
END:VEVENT
END:VCALENDAR