BEGIN:VCALENDAR
VERSION:2.0
PRODID:-//Contratero//ES
CALSCALE:GREGORIAN
METHOD:PUBLISH
BEGIN:VEVENT
UID:140/2021/27006@contratero.es
DTSTAMP:20260423T032724Z
DTSTART:20210702T235959
DTEND:20210703T005959
SUMMARY:Cierre: Servicio de soporte y mantenimiento de la Platafor
DESCRIPTION:Servicio de soporte y mantenimiento de la Plataforma de Verificación de Datos del Ministerio de Hacienda y Administraciones Públicas\\n\\nOrganismo: Concejalía Delegada de Hacienda\, Régimen Interior del Ayuntamiento de Arganda del Rey\\n\\nVer en Contratero: https://contratero.es/contracts/140/2021/27006
URL:https://contratero.es/contracts/140/2021/27006
STATUS:CONFIRMED
BEGIN:VALARM
TRIGGER:-P1D
ACTION:DISPLAY
DESCRIPTION:Recordatorio: Servicio de soporte y mantenim
END:VALARM
END:VEVENT
END:VCALENDAR