BEGIN:VCALENDAR
VERSION:2.0
PRODID:-//Contratero//ES
CALSCALE:GREGORIAN
METHOD:PUBLISH
BEGIN:VEVENT
UID:14001J/2025@contratero.es
DTSTAMP:20260422T192256Z
DTSTART:20251207T235959
DTEND:20251208T005959
SUMMARY:Cierre: Suministro de licencias de Microsoft 365 y servici
DESCRIPTION:Suministro de licencias de Microsoft 365 y servicio de migración del correo electrónico\, y soporte\, asesoramiento y asistencia técnica del Ayuntamiento de Llíria\\n\\nOrganismo: Junta de Gobierno del Ayuntamiento de Llíria\\n\\nVer en Contratero: https://contratero.es/contracts/14001J/2025
URL:https://contratero.es/contracts/14001J/2025
STATUS:CONFIRMED
BEGIN:VALARM
TRIGGER:-P1D
ACTION:DISPLAY
DESCRIPTION:Recordatorio: Suministro de licencias de Mic
END:VALARM
END:VEVENT
END:VCALENDAR