BEGIN:VCALENDAR
VERSION:2.0
PRODID:-//Contratero//ES
CALSCALE:GREGORIAN
METHOD:PUBLISH
BEGIN:VEVENT
UID:14039M/2025@contratero.es
DTSTAMP:20260420T103207Z
DTSTART:20250514T235959
DTEND:20250515T005959
SUMMARY:Cierre: Servicio de hosting accesible a través de una plat
DESCRIPTION:Servicio de hosting accesible a través de una plataforma en la nube con servicios de red\, seguridad y desarrollo para la aplicación cultural y deportiva del Ayuntamiento de Gijón/Xixón\, por procedimie...\\n\\nOrganismo: Concejalía Delegada de Hacienda del Ayuntamiento de Gijón\\n\\nVer en Contratero: https://contratero.es/contracts/14039M/2025
URL:https://contratero.es/contracts/14039M/2025
STATUS:CONFIRMED
BEGIN:VALARM
TRIGGER:-P1D
ACTION:DISPLAY
DESCRIPTION:Recordatorio: Servicio de hosting accesible 
END:VALARM
END:VEVENT
END:VCALENDAR