BEGIN:VCALENDAR
VERSION:2.0
PRODID:-//Contratero//ES
CALSCALE:GREGORIAN
METHOD:PUBLISH
BEGIN:VEVENT
UID:1407/2025@contratero.es
DTSTAMP:20260419T193011Z
DTSTART:20260119T235959
DTEND:20260120T005959
SUMMARY:Cierre: Suministro de licencias\, servicios y soporte de un
DESCRIPTION:Suministro de licencias\, servicios y soporte de una plataforma de monitorización.\\n\\nOrganismo: Dirección General de Gestión Económica\, Contratación e Infraestructuras de la Conselleria de Sanidad\\n\\nVer en Contratero: https://contratero.es/contracts/1407/2025
URL:https://contratero.es/contracts/1407/2025
STATUS:CONFIRMED
BEGIN:VALARM
TRIGGER:-P1D
ACTION:DISPLAY
DESCRIPTION:Recordatorio: Suministro de licencias\, servi
END:VALARM
END:VEVENT
END:VCALENDAR