BEGIN:VCALENDAR
VERSION:2.0
PRODID:-//Contratero//ES
CALSCALE:GREGORIAN
METHOD:PUBLISH
BEGIN:VEVENT
UID:143/2020/CMA@contratero.es
DTSTAMP:20260424T221610Z
DTSTART:20200921T235959
DTEND:20200922T005959
SUMMARY:Cierre: Servicios para los procesos de carga externa en la
DESCRIPTION:Servicios para los procesos de carga externa en la Dirección General de Ingresos Públicos\\n\\nOrganismo: Consejería de Hacienda de la Ciudad Autónoma de Melilla\\n\\nVer en Contratero: https://contratero.es/contracts/143/2020/CMA
URL:https://contratero.es/contracts/143/2020/CMA
STATUS:CONFIRMED
BEGIN:VALARM
TRIGGER:-P1D
ACTION:DISPLAY
DESCRIPTION:Recordatorio: Servicios para los procesos de
END:VALARM
END:VEVENT
END:VCALENDAR