BEGIN:VCALENDAR
VERSION:2.0
PRODID:-//Contratero//ES
CALSCALE:GREGORIAN
METHOD:PUBLISH
BEGIN:VEVENT
UID:1431718Y@contratero.es
DTSTAMP:20260419T195157Z
DTSTART:20250521T235959
DTEND:20250522T005959
SUMMARY:Cierre: Mantenimiento de la web de Radio Hellín\,
DESCRIPTION:Mantenimiento de la web de Radio Hellín\,\\n\\nOrganismo: Alcaldía del Ayuntamiento de Hellín\\n\\nVer en Contratero: https://contratero.es/contracts/1431718Y
URL:https://contratero.es/contracts/1431718Y
STATUS:CONFIRMED
BEGIN:VALARM
TRIGGER:-P1D
ACTION:DISPLAY
DESCRIPTION:Recordatorio: Mantenimiento de la web de Rad
END:VALARM
END:VEVENT
END:VCALENDAR