BEGIN:VCALENDAR
VERSION:2.0
PRODID:-//Contratero//ES
CALSCALE:GREGORIAN
METHOD:PUBLISH
BEGIN:VEVENT
UID:1448_LAS_SE_1221@contratero.es
DTSTAMP:20260422T094011Z
DTSTART:20220127T235959
DTEND:20220128T005959
SUMMARY:Cierre: Se desea contratar dos bolsas de horas de consulto
DESCRIPTION:Se desea contratar dos bolsas de horas de consultoría senior SAP con capacidad de resolución de peticiones de alta complejidad técnica de mantenimiento correctivo\, adaptativo\, evolutivo e integración ...\\n\\nOrganismo: Gerencia de EMAYA\, Empresa Municipal d'Aigües i Clavegueram\, S.A.\\n\\nVer en Contratero: https://contratero.es/contracts/1448_LAS_SE_1221
URL:https://contratero.es/contracts/1448_LAS_SE_1221
STATUS:CONFIRMED
BEGIN:VALARM
TRIGGER:-P1D
ACTION:DISPLAY
DESCRIPTION:Recordatorio: Se desea contratar dos bolsas 
END:VALARM
END:VEVENT
END:VCALENDAR