BEGIN:VCALENDAR
VERSION:2.0
PRODID:-//Contratero//ES
CALSCALE:GREGORIAN
METHOD:PUBLISH
BEGIN:VEVENT
UID:14527/2018@contratero.es
DTSTAMP:20260420T041048Z
DTSTART:20181115T235959
DTEND:20181116T005959
SUMMARY:Cierre: Servicios accesibilidad web para los dominios del 
DESCRIPTION:Servicios accesibilidad web para los dominios del ayuntamiento de Torrent\\n\\nOrganismo: Junta de Gobierno del Ayuntamiento de Torrent\\n\\nVer en Contratero: https://contratero.es/contracts/14527/2018
URL:https://contratero.es/contracts/14527/2018
STATUS:CONFIRMED
BEGIN:VALARM
TRIGGER:-P1D
ACTION:DISPLAY
DESCRIPTION:Recordatorio: Servicios accesibilidad web pa
END:VALARM
END:VEVENT
END:VCALENDAR