BEGIN:VCALENDAR
VERSION:2.0
PRODID:-//Contratero//ES
CALSCALE:GREGORIAN
METHOD:PUBLISH
BEGIN:VEVENT
UID:1476/2024@contratero.es
DTSTAMP:20260423T201729Z
DTSTART:20240719T235959
DTEND:20240720T005959
SUMMARY:Cierre: Subministrament de llicències dels programes infor
DESCRIPTION:Subministrament de llicències dels programes informàtics Adobe Acrobat Pro\, AnyDesk\, AutoCAD LT i ESET\, amb el suport i les actualitzacions\\n\\nOrganismo: Alcaldía del Ayuntamiento de Castelló\\n\\nVer en Contratero: https://contratero.es/contracts/1476/2024
URL:https://contratero.es/contracts/1476/2024
STATUS:CONFIRMED
BEGIN:VALARM
TRIGGER:-P1D
ACTION:DISPLAY
DESCRIPTION:Recordatorio: Subministrament de llicències 
END:VALARM
END:VEVENT
END:VCALENDAR