BEGIN:VCALENDAR
VERSION:2.0
PRODID:-//Contratero//ES
CALSCALE:GREGORIAN
METHOD:PUBLISH
BEGIN:VEVENT
UID:15/2020-SG@contratero.es
DTSTAMP:20260423T063851Z
DTSTART:20201112T235959
DTEND:20201113T005959
SUMMARY:Cierre: Mantenimiento y soporte del programa informático d
DESCRIPTION:Mantenimiento y soporte del programa informático de gestión de nóminas del DPA. GINPIX\\n\\nOrganismo: Defensor del Pueblo Andaluz\\n\\nVer en Contratero: https://contratero.es/contracts/15/2020-SG
URL:https://contratero.es/contracts/15/2020-SG
STATUS:CONFIRMED
BEGIN:VALARM
TRIGGER:-P1D
ACTION:DISPLAY
DESCRIPTION:Recordatorio: Mantenimiento y soporte del pr
END:VALARM
END:VEVENT
END:VCALENDAR