BEGIN:VCALENDAR
VERSION:2.0
PRODID:-//Contratero//ES
CALSCALE:GREGORIAN
METHOD:PUBLISH
BEGIN:VEVENT
UID:15/2025@contratero.es
DTSTAMP:20260423T000810Z
DTSTART:20260105T235959
DTEND:20260106T005959
SUMMARY:Cierre: Autorización del Uso Privativo del Dominio Público
DESCRIPTION:Autorización del Uso Privativo del Dominio Público Marítimo Terrestre -DPMT- y Dominio Público Municipal -DPM-\, para la instalación y explotación de Kioscos de Helados\, durante la época estival y para...\\n\\nOrganismo: Alcaldía del Ayuntamiento de Torrenueva Costa\\n\\nVer en Contratero: https://contratero.es/contracts/15/2025
URL:https://contratero.es/contracts/15/2025
STATUS:CONFIRMED
BEGIN:VALARM
TRIGGER:-P1D
ACTION:DISPLAY
DESCRIPTION:Recordatorio: Autorización del Uso Privativo
END:VALARM
END:VEVENT
END:VCALENDAR