BEGIN:VCALENDAR
VERSION:2.0
PRODID:-//Contratero//ES
CALSCALE:GREGORIAN
METHOD:PUBLISH
BEGIN:VEVENT
UID:150/2023/27006@contratero.es
DTSTAMP:20260422T133458Z
DTSTART:20230620T235959
DTEND:20230621T005959
SUMMARY:Cierre: Servicio de red wifi CISCO MERAKI\, mantenimiento y
DESCRIPTION:Servicio de red wifi CISCO MERAKI\, mantenimiento y licencias para los centros de Plaza de la Constitución y Centro Cultural Pilar Miró\\n\\nOrganismo: Concejalía Delegada de Hacienda\, Régimen Interior del Ayuntamiento de Arganda del Rey\\n\\nVer en Contratero: https://contratero.es/contracts/150/2023/27006
URL:https://contratero.es/contracts/150/2023/27006
STATUS:CONFIRMED
BEGIN:VALARM
TRIGGER:-P1D
ACTION:DISPLAY
DESCRIPTION:Recordatorio: Servicio de red wifi CISCO MER
END:VALARM
END:VEVENT
END:VCALENDAR