BEGIN:VCALENDAR
VERSION:2.0
PRODID:-//Contratero//ES
CALSCALE:GREGORIAN
METHOD:PUBLISH
BEGIN:VEVENT
UID:15156/2024@contratero.es
DTSTAMP:20260420T151454Z
DTSTART:20250226T235959
DTEND:20250227T005959
SUMMARY:Cierre: Contrato de de servicio de soporte y mantenimiento
DESCRIPTION:Contrato de de servicio de soporte y mantenimiento del sistema de gestión policial EUROCOP\\n\\nOrganismo: Alcaldía del Ayuntamiento de Azuqueca de Henares\\n\\nVer en Contratero: https://contratero.es/contracts/15156/2024
URL:https://contratero.es/contracts/15156/2024
STATUS:CONFIRMED
BEGIN:VALARM
TRIGGER:-P1D
ACTION:DISPLAY
DESCRIPTION:Recordatorio: Contrato de de servicio de sop
END:VALARM
END:VEVENT
END:VCALENDAR