BEGIN:VCALENDAR
VERSION:2.0
PRODID:-//Contratero//ES
CALSCALE:GREGORIAN
METHOD:PUBLISH
BEGIN:VEVENT
UID:1535882W@contratero.es
DTSTAMP:20260420T084315Z
DTSTART:20250715T235959
DTEND:20250716T005959
SUMMARY:Cierre: Servicio creación y actualización portales webs mu
DESCRIPTION:Servicio creación y actualización portales webs municipales\\n\\nOrganismo: Alcaldía del Ayuntamiento de Alcañiz\\n\\nVer en Contratero: https://contratero.es/contracts/1535882W
URL:https://contratero.es/contracts/1535882W
STATUS:CONFIRMED
BEGIN:VALARM
TRIGGER:-P1D
ACTION:DISPLAY
DESCRIPTION:Recordatorio: Servicio creación y actualizac
END:VALARM
END:VEVENT
END:VCALENDAR