BEGIN:VCALENDAR
VERSION:2.0
PRODID:-//Contratero//ES
CALSCALE:GREGORIAN
METHOD:PUBLISH
BEGIN:VEVENT
UID:1544_LASS_SE_0422@contratero.es
DTSTAMP:20260423T223329Z
DTSTART:20220708T235959
DTEND:20220709T005959
SUMMARY:Cierre: El objeto del presente concurso es licitar el serv
DESCRIPTION:El objeto del presente concurso es licitar el servicio de actualización del software de control a la última versión comercial\, así como la actualización del firmware de los equipos instalados\, incluye...\\n\\nOrganismo: Gerencia de EMAYA\, Empresa Municipal d'Aigües i Clavegueram\, S.A.\\n\\nVer en Contratero: https://contratero.es/contracts/1544_LASS_SE_0422
URL:https://contratero.es/contracts/1544_LASS_SE_0422
STATUS:CONFIRMED
BEGIN:VALARM
TRIGGER:-P1D
ACTION:DISPLAY
DESCRIPTION:Recordatorio: El objeto del presente concurs
END:VALARM
END:VEVENT
END:VCALENDAR