BEGIN:VCALENDAR
VERSION:2.0
PRODID:-//Contratero//ES
CALSCALE:GREGORIAN
METHOD:PUBLISH
BEGIN:VEVENT
UID:15655/2025@contratero.es
DTSTAMP:20260421T130139Z
DTSTART:20260302T235959
DTEND:20260303T005959
SUMMARY:Cierre: Servicio de mantenimiento de la aplicación de cont
DESCRIPTION:Servicio de mantenimiento de la aplicación de contabilidad SICALWIN\, de Gestión Tributaria y recaudación WINGT y Sede Electrónica Tributaria municipal\\n\\nOrganismo: Concejal de Área de Turismo\, Promoción Cultural\, Fiestas\, Mercado\, Desarrollo Tecnológico Y Organismo Autónomo Local del Ayuntamiento de Puerto de la Cruz\\n\\nVer en Contratero: https://contratero.es/contracts/15655/2025
URL:https://contratero.es/contracts/15655/2025
STATUS:CONFIRMED
BEGIN:VALARM
TRIGGER:-P1D
ACTION:DISPLAY
DESCRIPTION:Recordatorio: Servicio de mantenimiento de l
END:VALARM
END:VEVENT
END:VCALENDAR