BEGIN:VCALENDAR
VERSION:2.0
PRODID:-//Contratero//ES
CALSCALE:GREGORIAN
METHOD:PUBLISH
BEGIN:VEVENT
UID:1566497Q@contratero.es
DTSTAMP:20260420T123225Z
DTSTART:20251201T235959
DTEND:20251202T005959
SUMMARY:Cierre: Renovación y Gestión de Dominios de Internet para 
DESCRIPTION:Renovación y Gestión de Dominios de Internet para los Ayuntamientos de la Provincia de León.\\n\\nOrganismo: Presidencia de la Diputación Provincial de León\\n\\nVer en Contratero: https://contratero.es/contracts/1566497Q
URL:https://contratero.es/contracts/1566497Q
STATUS:CONFIRMED
BEGIN:VALARM
TRIGGER:-P1D
ACTION:DISPLAY
DESCRIPTION:Recordatorio: Renovación y Gestión de Domini
END:VALARM
END:VEVENT
END:VCALENDAR