BEGIN:VCALENDAR
VERSION:2.0
PRODID:-//Contratero//ES
CALSCALE:GREGORIAN
METHOD:PUBLISH
BEGIN:VEVENT
UID:1581109K@contratero.es
DTSTAMP:20260422T102649Z
DTSTART:20231122T235959
DTEND:20231123T005959
SUMMARY:Cierre: Servicios de suscripción\, actualización y mantenim
DESCRIPTION:Servicios de suscripción\, actualización y mantenimiento del entorno telemático OMICWEB\\n\\nOrganismo: Alcaldía del Ayuntamiento de Manises\\n\\nVer en Contratero: https://contratero.es/contracts/1581109K
URL:https://contratero.es/contracts/1581109K
STATUS:CONFIRMED
BEGIN:VALARM
TRIGGER:-P1D
ACTION:DISPLAY
DESCRIPTION:Recordatorio: Servicios de suscripción\, actu
END:VALARM
END:VEVENT
END:VCALENDAR