BEGIN:VCALENDAR
VERSION:2.0
PRODID:-//Contratero//ES
CALSCALE:GREGORIAN
METHOD:PUBLISH
BEGIN:VEVENT
UID:159/2025@contratero.es
DTSTAMP:20260420T064543Z
DTSTART:20251010T235959
DTEND:20251011T005959
SUMMARY:Cierre: Suministro de licencias de software de escritorio 
DESCRIPTION:Suministro de licencias de software de escritorio remoto para Empresa Municipal de la Vivienda y Suelo de Madrid. S.A. (EMVS Madrid)\\n\\nOrganismo: Empresa Municipal de la Vivienda y Suelo de Madrid\, S.A.\\n\\nVer en Contratero: https://contratero.es/contracts/159/2025
URL:https://contratero.es/contracts/159/2025
STATUS:CONFIRMED
BEGIN:VALARM
TRIGGER:-P1D
ACTION:DISPLAY
DESCRIPTION:Recordatorio: Suministro de licencias de sof
END:VALARM
END:VEVENT
END:VCALENDAR