BEGIN:VCALENDAR
VERSION:2.0
PRODID:-//Contratero//ES
CALSCALE:GREGORIAN
METHOD:PUBLISH
BEGIN:VEVENT
UID:1594907Z@contratero.es
DTSTAMP:20260419T163618Z
DTSTART:20260127T235959
DTEND:20260128T005959
SUMMARY:Cierre: Servicios de Dirección de ejecución de instalacion
DESCRIPTION:Servicios de Dirección de ejecución de instalaciones del proyecto de reforma y ampliación de las Residencias 1 y 2 del Centro Cosamai en Astorga\\n\\nOrganismo: Presidencia de la Diputación Provincial de León\\n\\nVer en Contratero: https://contratero.es/contracts/1594907Z
URL:https://contratero.es/contracts/1594907Z
STATUS:CONFIRMED
BEGIN:VALARM
TRIGGER:-P1D
ACTION:DISPLAY
DESCRIPTION:Recordatorio: Servicios de Dirección de ejec
END:VALARM
END:VEVENT
END:VCALENDAR