BEGIN:VCALENDAR
VERSION:2.0
PRODID:-//Contratero//ES
CALSCALE:GREGORIAN
METHOD:PUBLISH
BEGIN:VEVENT
UID:16/2026@contratero.es
DTSTAMP:20260420T044229Z
DTSTART:20260310T235959
DTEND:20260311T005959
SUMMARY:Cierre: Suministro e implantación de un sistema integrado 
DESCRIPTION:Suministro e implantación de un sistema integrado de pesaje y trazabilidad en el CTR y plantas de transferencia del Consorcio\\n\\nOrganismo: Junta de Gobierno y Administración del Consorcio Provincial Zona Norte de Ávila\\n\\nVer en Contratero: https://contratero.es/contracts/16/2026
URL:https://contratero.es/contracts/16/2026
STATUS:CONFIRMED
BEGIN:VALARM
TRIGGER:-P1D
ACTION:DISPLAY
DESCRIPTION:Recordatorio: Suministro e implantación de u
END:VALARM
END:VEVENT
END:VCALENDAR