BEGIN:VCALENDAR
VERSION:2.0
PRODID:-//Contratero//ES
CALSCALE:GREGORIAN
METHOD:PUBLISH
BEGIN:VEVENT
UID:1619304J@contratero.es
DTSTAMP:20260424T131320Z
DTSTART:20240719T235959
DTEND:20240720T005959
SUMMARY:Cierre: Servicios para el desarrollo del plan de implantac
DESCRIPTION:Servicios para el desarrollo del plan de implantación del Esquema Nacional de Seguridad (ENS) y consultoría para obtener la certificación de nivel MEDIO del ENS de la Agencia Valenciana Antifraude\; me...\\n\\nOrganismo: Director de la Agencia de Prevención y Lucha contra el Fraude y la corrupción de la Comunidad Valenciana\\n\\nVer en Contratero: https://contratero.es/contracts/1619304J
URL:https://contratero.es/contracts/1619304J
STATUS:CONFIRMED
BEGIN:VALARM
TRIGGER:-P1D
ACTION:DISPLAY
DESCRIPTION:Recordatorio: Servicios para el desarrollo d
END:VALARM
END:VEVENT
END:VCALENDAR