BEGIN:VCALENDAR
VERSION:2.0
PRODID:-//Contratero//ES
CALSCALE:GREGORIAN
METHOD:PUBLISH
BEGIN:VEVENT
UID:162/2021@contratero.es
DTSTAMP:20260420T164554Z
DTSTART:20220509T235959
DTEND:20220510T005959
SUMMARY:Cierre: Mantenimiento y Soporte de las aplicaciones inform
DESCRIPTION:Mantenimiento y Soporte de las aplicaciones informáticas de las áreas de Intervención y Secretaría\\n\\nOrganismo: Junta de Gobierno del Patronato Municipal de Deportes de Palencia\\n\\nVer en Contratero: https://contratero.es/contracts/162/2021
URL:https://contratero.es/contracts/162/2021
STATUS:CONFIRMED
BEGIN:VALARM
TRIGGER:-P1D
ACTION:DISPLAY
DESCRIPTION:Recordatorio: Mantenimiento y Soporte de las
END:VALARM
END:VEVENT
END:VCALENDAR