BEGIN:VCALENDAR
VERSION:2.0
PRODID:-//Contratero//ES
CALSCALE:GREGORIAN
METHOD:PUBLISH
BEGIN:VEVENT
UID:1620/2023@contratero.es
DTSTAMP:20260425T113632Z
DTSTART:20231003T235959
DTEND:20231004T005959
SUMMARY:Cierre: El objeto del contrato será la contratación del al
DESCRIPTION:El objeto del contrato será la contratación del almacenamiento en la nube para backups (copias de seguridad) para los datos e información contenidos en los sistemas informáticos del Cabildo Insular de...\\n\\nOrganismo: Presidencia del Cabildo Insular de La Gomera\\n\\nVer en Contratero: https://contratero.es/contracts/1620/2023
URL:https://contratero.es/contracts/1620/2023
STATUS:CONFIRMED
BEGIN:VALARM
TRIGGER:-P1D
ACTION:DISPLAY
DESCRIPTION:Recordatorio: El objeto del contrato será la
END:VALARM
END:VEVENT
END:VCALENDAR