BEGIN:VCALENDAR
VERSION:2.0
PRODID:-//Contratero//ES
CALSCALE:GREGORIAN
METHOD:PUBLISH
BEGIN:VEVENT
UID:1622/2023@contratero.es
DTSTAMP:20260425T032630Z
DTSTART:20231020T235959
DTEND:20231021T005959
SUMMARY:Cierre: El suministro para el Ayuntamiento de Villanueva d
DESCRIPTION:El suministro para el Ayuntamiento de Villanueva de los Castillejos\, de un Sistema Software de control de asistencia\, con captura y gestión de fichajes de presencia de los empleados.\\n\\nOrganismo: Alcaldía del Ayuntamiento de Villanueva de los Castillejos\\n\\nVer en Contratero: https://contratero.es/contracts/1622/2023
URL:https://contratero.es/contracts/1622/2023
STATUS:CONFIRMED
BEGIN:VALARM
TRIGGER:-P1D
ACTION:DISPLAY
DESCRIPTION:Recordatorio: El suministro para el Ayuntami
END:VALARM
END:VEVENT
END:VCALENDAR