BEGIN:VCALENDAR
VERSION:2.0
PRODID:-//Contratero//ES
CALSCALE:GREGORIAN
METHOD:PUBLISH
BEGIN:VEVENT
UID:1629/2025@contratero.es
DTSTAMP:20260419T164037Z
DTSTART:20251006T235959
DTEND:20251007T005959
SUMMARY:Cierre: Acceso a la plataforma digital Puebli al ayuntamie
DESCRIPTION:Acceso a la plataforma digital Puebli al ayuntamiento\, permitiendo que la ciudadanía de Pedralba pueda utilizar la aplicación y sus funcionalidades\\n\\nOrganismo: Alcaldía del Ayuntamiento de Pedralba\\n\\nVer en Contratero: https://contratero.es/contracts/1629/2025
URL:https://contratero.es/contracts/1629/2025
STATUS:CONFIRMED
BEGIN:VALARM
TRIGGER:-P1D
ACTION:DISPLAY
DESCRIPTION:Recordatorio: Acceso a la plataforma digital
END:VALARM
END:VEVENT
END:VCALENDAR