BEGIN:VCALENDAR
VERSION:2.0
PRODID:-//Contratero//ES
CALSCALE:GREGORIAN
METHOD:PUBLISH
BEGIN:VEVENT
UID:1630/2020@contratero.es
DTSTAMP:20260425T205912Z
DTSTART:20210126T235959
DTEND:20210127T005959
SUMMARY:Cierre: El objeto del contrato es la realización del servi
DESCRIPTION:El objeto del contrato es la realización del servicio de soporte y mantenimiento de todos los equipos\, sistemas informáticos\, página web supramunicipal y correos electrónicos (hosting) de la Mancomuni...\\n\\nOrganismo: Pleno de la Mancomunidad MISECAM\\n\\nVer en Contratero: https://contratero.es/contracts/1630/2020
URL:https://contratero.es/contracts/1630/2020
STATUS:CONFIRMED
BEGIN:VALARM
TRIGGER:-P1D
ACTION:DISPLAY
DESCRIPTION:Recordatorio: El objeto del contrato es la r
END:VALARM
END:VEVENT
END:VCALENDAR