BEGIN:VCALENDAR
VERSION:2.0
PRODID:-//Contratero//ES
CALSCALE:GREGORIAN
METHOD:PUBLISH
BEGIN:VEVENT
UID:1642/2023@contratero.es
DTSTAMP:20260421T184737Z
DTSTART:20250609T235959
DTEND:20250610T005959
SUMMARY:Cierre: Actualización\, mantenimiento y desarrollo de nueva
DESCRIPTION:Actualización\, mantenimiento y desarrollo de nuevas funcionalidades en el aplicativo informático (RECANET) destinado a la recaudación y gestión de las liquidaciones de ingresos públicos del Ente Públi...\\n\\nOrganismo: Presidencia del Ente Público Empresarial Puertos Canarios\\n\\nVer en Contratero: https://contratero.es/contracts/1642/2023
URL:https://contratero.es/contracts/1642/2023
STATUS:CONFIRMED
BEGIN:VALARM
TRIGGER:-P1D
ACTION:DISPLAY
DESCRIPTION:Recordatorio: Actualización\, mantenimiento y
END:VALARM
END:VEVENT
END:VCALENDAR