BEGIN:VCALENDAR
VERSION:2.0
PRODID:-//Contratero//ES
CALSCALE:GREGORIAN
METHOD:PUBLISH
BEGIN:VEVENT
UID:1658/2026@contratero.es
DTSTAMP:20260419T154819Z
DTSTART:20260318T235959
DTEND:20260319T005959
SUMMARY:Cierre: contratación de licencia de software para la gesti
DESCRIPTION:contratación de licencia de software para la gestión digital del autocontrol de piscinas y automatización de informes al sistema de SILOE del ministerio de sanidad para las instalaciones deportivas de...\\n\\nOrganismo: Alcaldia del Ayuntamiento de Alcalá la Real\\n\\nVer en Contratero: https://contratero.es/contracts/1658/2026
URL:https://contratero.es/contracts/1658/2026
STATUS:CONFIRMED
BEGIN:VALARM
TRIGGER:-P1D
ACTION:DISPLAY
DESCRIPTION:Recordatorio: contratación de licencia de so
END:VALARM
END:VEVENT
END:VCALENDAR