BEGIN:VCALENDAR
VERSION:2.0
PRODID:-//Contratero//ES
CALSCALE:GREGORIAN
METHOD:PUBLISH
BEGIN:VEVENT
UID:1685/2025@contratero.es
DTSTAMP:20260425T213353Z
DTSTART:20251024T235959
DTEND:20251025T005959
SUMMARY:Cierre: Servicio de mantenimiento de la aplicación de admi
DESCRIPTION:Servicio de mantenimiento de la aplicación de administración electrónica denominada “ESPUBLICO GESTIONA”\,\\n\\nOrganismo: Alcaldía del Ayuntamiento d'Algaida\\n\\nVer en Contratero: https://contratero.es/contracts/1685/2025
URL:https://contratero.es/contracts/1685/2025
STATUS:CONFIRMED
BEGIN:VALARM
TRIGGER:-P1D
ACTION:DISPLAY
DESCRIPTION:Recordatorio: Servicio de mantenimiento de l
END:VALARM
END:VEVENT
END:VCALENDAR