BEGIN:VCALENDAR
VERSION:2.0
PRODID:-//Contratero//ES
CALSCALE:GREGORIAN
METHOD:PUBLISH
BEGIN:VEVENT
UID:1689764W@contratero.es
DTSTAMP:20260424T205851Z
DTSTART:20251212T235959
DTEND:20251213T005959
SUMMARY:Cierre: Renovación del licenciamiento software bajo modali
DESCRIPTION:Renovación del licenciamiento software bajo modalidad SaaS (Software como Servicio)\nde la plataforma audiovisual Watchity Professional Edition.\\n\\nOrganismo: Secretaría General de las Cortes de Castilla-La Mancha\\n\\nVer en Contratero: https://contratero.es/contracts/1689764W
URL:https://contratero.es/contracts/1689764W
STATUS:CONFIRMED
BEGIN:VALARM
TRIGGER:-P1D
ACTION:DISPLAY
DESCRIPTION:Recordatorio: Renovación del licenciamiento 
END:VALARM
END:VEVENT
END:VCALENDAR