BEGIN:VCALENDAR
VERSION:2.0
PRODID:-//Contratero//ES
CALSCALE:GREGORIAN
METHOD:PUBLISH
BEGIN:VEVENT
UID:1691613N@contratero.es
DTSTAMP:20260423T053914Z
DTSTART:20251112T235959
DTEND:20251113T005959
SUMMARY:Cierre: Desarrollo de herramientas tecnológicas y contenid
DESCRIPTION:Desarrollo de herramientas tecnológicas y contenido digital para el desarrollo turístico en el municipio de Loarre\, en el marco del Plan de\nRecuperación\, Transformación y Resiliencia – Financiado con...\\n\\nOrganismo: PLENO DEL AYUNTAMIENTO DE LOARRE\\n\\nVer en Contratero: https://contratero.es/contracts/1691613N
URL:https://contratero.es/contracts/1691613N
STATUS:CONFIRMED
BEGIN:VALARM
TRIGGER:-P1D
ACTION:DISPLAY
DESCRIPTION:Recordatorio: Desarrollo de herramientas tec
END:VALARM
END:VEVENT
END:VCALENDAR