BEGIN:VCALENDAR
VERSION:2.0
PRODID:-//Contratero//ES
CALSCALE:GREGORIAN
METHOD:PUBLISH
BEGIN:VEVENT
UID:1698/2025@contratero.es
DTSTAMP:20260423T113556Z
DTSTART:20250721T235959
DTEND:20250722T005959
SUMMARY:Cierre: Procedimiento negociado para la adjudicación del S
DESCRIPTION:Procedimiento negociado para la adjudicación del Servicio de Asistencia Técnica de la EPEL-CACT\\n\\nOrganismo: Entidad Pública Empresarial Local Centros de Arte\, Cultura y Turismo de Lanzarote\\n\\nVer en Contratero: https://contratero.es/contracts/1698/2025
URL:https://contratero.es/contracts/1698/2025
STATUS:CONFIRMED
BEGIN:VALARM
TRIGGER:-P1D
ACTION:DISPLAY
DESCRIPTION:Recordatorio: Procedimiento negociado para l
END:VALARM
END:VEVENT
END:VCALENDAR