BEGIN:VCALENDAR
VERSION:2.0
PRODID:-//Contratero//ES
CALSCALE:GREGORIAN
METHOD:PUBLISH
BEGIN:VEVENT
UID:1699168F@contratero.es
DTSTAMP:20260423T022209Z
DTSTART:20251210T235959
DTEND:20251211T005959
SUMMARY:Cierre: Servicio de soporte y mantenimiento de los equipos
DESCRIPTION:Servicio de soporte y mantenimiento de los equipos de hardware (detallados en el Pliego de Prescripciones Técnicas)\, necesarios para cubrir las necesidades tecnológicas de las Cortes de Castilla-La Ma...\\n\\nOrganismo: Secretaría General de las Cortes de Castilla-La Mancha\\n\\nVer en Contratero: https://contratero.es/contracts/1699168F
URL:https://contratero.es/contracts/1699168F
STATUS:CONFIRMED
BEGIN:VALARM
TRIGGER:-P1D
ACTION:DISPLAY
DESCRIPTION:Recordatorio: Servicio de soporte y mantenim
END:VALARM
END:VEVENT
END:VCALENDAR