BEGIN:VCALENDAR
VERSION:2.0
PRODID:-//Contratero//ES
CALSCALE:GREGORIAN
METHOD:PUBLISH
BEGIN:VEVENT
UID:16AS22-3143@contratero.es
DTSTAMP:20260421T061752Z
DTSTART:20221123T235959
DTEND:20221124T005959
SUMMARY:Cierre: Contrato de servicios para la realización de los t
DESCRIPTION:Contrato de servicios para la realización de los trabajos de revisión\, actualización y valoración del inventario municipal de bienes y derechos\, así como confección del inventario separado del patrimo...\\n\\nOrganismo: Alcaldía del Ayuntamiento de El Sauzal\\n\\nVer en Contratero: https://contratero.es/contracts/16AS22-3143
URL:https://contratero.es/contracts/16AS22-3143
STATUS:CONFIRMED
BEGIN:VALARM
TRIGGER:-P1D
ACTION:DISPLAY
DESCRIPTION:Recordatorio: Contrato de servicios para la 
END:VALARM
END:VEVENT
END:VCALENDAR