BEGIN:VCALENDAR
VERSION:2.0
PRODID:-//Contratero//ES
CALSCALE:GREGORIAN
METHOD:PUBLISH
BEGIN:VEVENT
UID:17.2025@contratero.es
DTSTAMP:20260424T174913Z
DTSTART:20250829T235959
DTEND:20250830T005959
SUMMARY:Cierre: Servicio para el desarrollo de nuevas funcionalida
DESCRIPTION:Servicio para el desarrollo de nuevas funcionalidades y actualización de las existentes del sistema integrado de planificación del espectro radioeléctrico (SIPER) de la SETELECO\\n\\nOrganismo: Junta de Contratación del Ministerio para la Transformación Digital y de la Función Pública\\n\\nVer en Contratero: https://contratero.es/contracts/17.2025
URL:https://contratero.es/contracts/17.2025
STATUS:CONFIRMED
BEGIN:VALARM
TRIGGER:-P1D
ACTION:DISPLAY
DESCRIPTION:Recordatorio: Servicio para el desarrollo de
END:VALARM
END:VEVENT
END:VCALENDAR