BEGIN:VCALENDAR
VERSION:2.0
PRODID:-//Contratero//ES
CALSCALE:GREGORIAN
METHOD:PUBLISH
BEGIN:VEVENT
UID:17/2023@contratero.es
DTSTAMP:20260421T235807Z
DTSTART:20240110T235959
DTEND:20240111T005959
SUMMARY:Cierre: Servicio consistente en la actualización de los si
DESCRIPTION:Servicio consistente en la actualización de los sitios web de los Parques Nacionales de Canarias\\n\\nOrganismo: Dirección General de Espacios Naturales y Biodiversidad de Canarias\\n\\nVer en Contratero: https://contratero.es/contracts/17/2023
URL:https://contratero.es/contracts/17/2023
STATUS:CONFIRMED
BEGIN:VALARM
TRIGGER:-P1D
ACTION:DISPLAY
DESCRIPTION:Recordatorio: Servicio consistente en la act
END:VALARM
END:VEVENT
END:VCALENDAR