BEGIN:VCALENDAR
VERSION:2.0
PRODID:-//Contratero//ES
CALSCALE:GREGORIAN
METHOD:PUBLISH
BEGIN:VEVENT
UID:17/2024@contratero.es
DTSTAMP:20260422T082229Z
DTSTART:20260115T235959
DTEND:20260116T005959
SUMMARY:Cierre: Contrato de suministro\, instalación y mantenimient
DESCRIPTION:Contrato de suministro\, instalación y mantenimiento de un programa informático de gestión académica y administrativa para la Escuela de Música y Talleres del Ayuntamiento de Majadahonda\\n\\nOrganismo: Alcaldía del Ayuntamiento de Majadahonda\\n\\nVer en Contratero: https://contratero.es/contracts/17/2024
URL:https://contratero.es/contracts/17/2024
STATUS:CONFIRMED
BEGIN:VALARM
TRIGGER:-P1D
ACTION:DISPLAY
DESCRIPTION:Recordatorio: Contrato de suministro\, instal
END:VALARM
END:VEVENT
END:VCALENDAR