BEGIN:VCALENDAR
VERSION:2.0
PRODID:-//Contratero//ES
CALSCALE:GREGORIAN
METHOD:PUBLISH
BEGIN:VEVENT
UID:1701012R@contratero.es
DTSTAMP:20260424T192426Z
DTSTART:20251222T235959
DTEND:20251223T005959
SUMMARY:Cierre: Contratación de mantenimiento de la aplicación Sic
DESCRIPTION:Contratación de mantenimiento de la aplicación Sicalwin (programas de contabilidad y patrimonial)\\n\\nOrganismo: Gerencia del Consorcio de la Ciudad de Santiago\\n\\nVer en Contratero: https://contratero.es/contracts/1701012R
URL:https://contratero.es/contracts/1701012R
STATUS:CONFIRMED
BEGIN:VALARM
TRIGGER:-P1D
ACTION:DISPLAY
DESCRIPTION:Recordatorio: Contratación de mantenimiento 
END:VALARM
END:VEVENT
END:VCALENDAR