BEGIN:VCALENDAR
VERSION:2.0
PRODID:-//Contratero//ES
CALSCALE:GREGORIAN
METHOD:PUBLISH
BEGIN:VEVENT
UID:1711851X@contratero.es
DTSTAMP:20260422T192257Z
DTSTART:20251226T235959
DTEND:20251227T005959
SUMMARY:Cierre: Suscripción de licencias de uso de Adobe
DESCRIPTION:Suscripción de licencias de uso de Adobe\\n\\nOrganismo: Gerencia del Consorcio de la Ciudad de Santiago\\n\\nVer en Contratero: https://contratero.es/contracts/1711851X
URL:https://contratero.es/contracts/1711851X
STATUS:CONFIRMED
BEGIN:VALARM
TRIGGER:-P1D
ACTION:DISPLAY
DESCRIPTION:Recordatorio: Suscripción de licencias de us
END:VALARM
END:VEVENT
END:VCALENDAR