BEGIN:VCALENDAR
VERSION:2.0
PRODID:-//Contratero//ES
CALSCALE:GREGORIAN
METHOD:PUBLISH
BEGIN:VEVENT
UID:172/2020@contratero.es
DTSTAMP:20260423T214415Z
DTSTART:20210205T235959
DTEND:20210206T005959
SUMMARY:Cierre: Gestión integral del entorno digital del Patronato
DESCRIPTION:Gestión integral del entorno digital del Patronato de Turismo de Zamora con el objeto de mantener actualizadas todas las herramientas tecnológicas que facilitan la utilización del marketing on line.\\n\\nOrganismo: Presidencia del Patronato Provincial de Turismo de Zamora\\n\\nVer en Contratero: https://contratero.es/contracts/172/2020
URL:https://contratero.es/contracts/172/2020
STATUS:CONFIRMED
BEGIN:VALARM
TRIGGER:-P1D
ACTION:DISPLAY
DESCRIPTION:Recordatorio: Gestión integral del entorno d
END:VALARM
END:VEVENT
END:VCALENDAR