BEGIN:VCALENDAR
VERSION:2.0
PRODID:-//Contratero//ES
CALSCALE:GREGORIAN
METHOD:PUBLISH
BEGIN:VEVENT
UID:172/2022/37@contratero.es
DTSTAMP:20260422T194419Z
DTSTART:20220427T235959
DTEND:20220428T005959
SUMMARY:Cierre: Servicio de una plataforma para la inscripción y g
DESCRIPTION:Servicio de una plataforma para la inscripción y gestión de concursos municipales en modalidad Saas o similar.\\n\\nOrganismo: Junta de Gobierno del Ayuntamiento de Paterna\\n\\nVer en Contratero: https://contratero.es/contracts/172/2022/37
URL:https://contratero.es/contracts/172/2022/37
STATUS:CONFIRMED
BEGIN:VALARM
TRIGGER:-P1D
ACTION:DISPLAY
DESCRIPTION:Recordatorio: Servicio de una plataforma par
END:VALARM
END:VEVENT
END:VCALENDAR