BEGIN:VCALENDAR
VERSION:2.0
PRODID:-//Contratero//ES
CALSCALE:GREGORIAN
METHOD:PUBLISH
BEGIN:VEVENT
UID:172/2025/142@contratero.es
DTSTAMP:20260421T184916Z
DTSTART:20251210T235959
DTEND:20251211T005959
SUMMARY:Cierre: Servicio de mantenimiento y soporte de la solución
DESCRIPTION:Servicio de mantenimiento y soporte de la solución de seguridad Gloria.\\n\\nOrganismo: Junta de Gobierno del Ayuntamiento de Paterna\\n\\nVer en Contratero: https://contratero.es/contracts/172/2025/142
URL:https://contratero.es/contracts/172/2025/142
STATUS:CONFIRMED
BEGIN:VALARM
TRIGGER:-P1D
ACTION:DISPLAY
DESCRIPTION:Recordatorio: Servicio de mantenimiento y so
END:VALARM
END:VEVENT
END:VCALENDAR