BEGIN:VCALENDAR
VERSION:2.0
PRODID:-//Contratero//ES
CALSCALE:GREGORIAN
METHOD:PUBLISH
BEGIN:VEVENT
UID:1731/2025@contratero.es
DTSTAMP:20260420T064814Z
DTSTART:20250723T235959
DTEND:20250724T005959
SUMMARY:Cierre: Servicio de Mantenimiento\, Gestión de incidencias 
DESCRIPTION:Servicio de Mantenimiento\, Gestión de incidencias y Consultas del Proyecto Línea Verde\\n\\nOrganismo: Alcaldía del Ayuntamiento de San Bartolomé de Lanzarote\\n\\nVer en Contratero: https://contratero.es/contracts/1731/2025
URL:https://contratero.es/contracts/1731/2025
STATUS:CONFIRMED
BEGIN:VALARM
TRIGGER:-P1D
ACTION:DISPLAY
DESCRIPTION:Recordatorio: Servicio de Mantenimiento\, Ges
END:VALARM
END:VEVENT
END:VCALENDAR