BEGIN:VCALENDAR
VERSION:2.0
PRODID:-//Contratero//ES
CALSCALE:GREGORIAN
METHOD:PUBLISH
BEGIN:VEVENT
UID:1758653Z@contratero.es
DTSTAMP:20260424T083423Z
DTSTART:20240405T235959
DTEND:20240406T005959
SUMMARY:Cierre: Adquisición de licencias software de uso de Deep F
DESCRIPTION:Adquisición de licencias software de uso de Deep Freeze cloud Basic\\n\\nOrganismo: Alcaldía del Ayuntamiento de Xirivella\\n\\nVer en Contratero: https://contratero.es/contracts/1758653Z
URL:https://contratero.es/contracts/1758653Z
STATUS:CONFIRMED
BEGIN:VALARM
TRIGGER:-P1D
ACTION:DISPLAY
DESCRIPTION:Recordatorio: Adquisición de licencias softw
END:VALARM
END:VEVENT
END:VCALENDAR