BEGIN:VCALENDAR
VERSION:2.0
PRODID:-//Contratero//ES
CALSCALE:GREGORIAN
METHOD:PUBLISH
BEGIN:VEVENT
UID:176/2021@contratero.es
DTSTAMP:20260422T152354Z
DTSTART:20211025T235959
DTEND:20211026T005959
SUMMARY:Cierre: Arrendamiento de vivienda.
DESCRIPTION:Arrendamiento de vivienda.\\n\\nOrganismo: Pleno del Ayuntamiento de Algadefe\\n\\nVer en Contratero: https://contratero.es/contracts/176/2021
URL:https://contratero.es/contracts/176/2021
STATUS:CONFIRMED
BEGIN:VALARM
TRIGGER:-P1D
ACTION:DISPLAY
DESCRIPTION:Recordatorio: Arrendamiento de vivienda.
END:VALARM
END:VEVENT
END:VCALENDAR